BEGIN:VCALENDAR
PRODID:-//SoulAndWolf//SilverStripe//EN
VERSION:2.0
BEGIN:VEVENT
DTSTART;TZID=Australia/Melbourne:20260228T110000
DTEND;TZID=Australia/Melbourne:20260228T130000
DESCRIPTION:https://www.woodards.com.au/property/19-gedye-street-doncaster-east-3109-1856809/
SUMMARY:Auction at 19 Gedye Street
LOCATION:19 Gedye Street, Doncaster East, VIC 3109
URL:https://www.woodards.com.au/property/19-gedye-street-doncaster-east-3109-1856809/
END:VEVENT
END:VCALENDAR