BEGIN:VCALENDAR
PRODID:-//SoulAndWolf//SilverStripe//EN
VERSION:2.0
BEGIN:VEVENT
DTSTART;TZID=Australia/Melbourne:20251025T140000
DTEND;TZID=Australia/Melbourne:20251025T160000
DESCRIPTION:https://www.woodards.com.au/property/19-massey-avenue-reservoir-3073-1810928/
SUMMARY:Auction at 19 Massey Avenue
LOCATION:19 Massey Avenue, Reservoir, VIC 3073
URL:https://www.woodards.com.au/property/19-massey-avenue-reservoir-3073-1810928/
END:VEVENT
END:VCALENDAR