BEGIN:VCALENDAR
PRODID:-//SoulAndWolf//SilverStripe//EN
VERSION:2.0
BEGIN:VEVENT
DTSTART;TZID=Australia/Melbourne:20260207T110000
DTEND;TZID=Australia/Melbourne:20260207T130000
DESCRIPTION:https://www.woodards.com.au/property/190-harold-street-thornbury-3071-1848937/
SUMMARY:Auction at 190 Harold Street
LOCATION:190 Harold Street, Thornbury, VIC 3071
URL:https://www.woodards.com.au/property/190-harold-street-thornbury-3071-1848937/
END:VEVENT
END:VCALENDAR