BEGIN:VCALENDAR
PRODID:-//SoulAndWolf//SilverStripe//EN
VERSION:2.0
BEGIN:VEVENT
DTSTART;TZID=Australia/Melbourne:20260502T093000
DTEND;TZID=Australia/Melbourne:20260502T100000
DESCRIPTION:https://www.woodards.com.au/property/192-194-berringa-road-park-orchards-3114-1871821/
SUMMARY:Inspection at 192-194 Berringa Road
LOCATION:192-194 Berringa Road, Park Orchards, VIC 3114
URL:https://www.woodards.com.au/property/192-194-berringa-road-park-orchards-3114-1871821/
END:VEVENT
END:VCALENDAR