BEGIN:VCALENDAR
PRODID:-//SoulAndWolf//SilverStripe//EN
VERSION:2.0
BEGIN:VEVENT
DTSTART;TZID=Australia/Melbourne:20250412T100000
DTEND;TZID=Australia/Melbourne:20250412T120000
DESCRIPTION:https://www.woodards.com.au/property/1a-lascelles-street-coburg-3058-1653741/
SUMMARY:Auction at 1A Lascelles Street
LOCATION:1A Lascelles Street, Coburg, VIC 3058
URL:https://www.woodards.com.au/property/1a-lascelles-street-coburg-3058-1653741/
END:VEVENT
END:VCALENDAR