BEGIN:VCALENDAR
PRODID:-//SoulAndWolf//SilverStripe//EN
VERSION:2.0
BEGIN:VEVENT
DTSTART;TZID=Australia/Melbourne:20250607T100000
DTEND;TZID=Australia/Melbourne:20250607T120000
DESCRIPTION:https://www.woodards.com.au/property/1b-oamaru-street-northcote-3070-1692272/
SUMMARY:Auction at 1B Oamaru Street
LOCATION:1B Oamaru Street, Northcote, VIC 3070
URL:https://www.woodards.com.au/property/1b-oamaru-street-northcote-3070-1692272/
END:VEVENT
END:VCALENDAR