BEGIN:VCALENDAR
PRODID:-//SoulAndWolf//SilverStripe//EN
VERSION:2.0
BEGIN:VEVENT
DTSTART;TZID=Australia/Melbourne:20251115T130000
DTEND;TZID=Australia/Melbourne:20251115T150000
DESCRIPTION:https://www.woodards.com.au/property/1f-tovan-akas-avenue-bentleigh-3204-1818981/
SUMMARY:Auction at 1F Tovan Akas Avenue
LOCATION:1F Tovan Akas Avenue, Bentleigh, VIC 3204
URL:https://www.woodards.com.au/property/1f-tovan-akas-avenue-bentleigh-3204-1818981/
END:VEVENT
END:VCALENDAR