BEGIN:VCALENDAR
PRODID:-//SoulAndWolf//SilverStripe//EN
VERSION:2.0
BEGIN:VEVENT
DTSTART;TZID=Australia/Melbourne:20260228T150000
DTEND;TZID=Australia/Melbourne:20260228T170000
DESCRIPTION:https://www.woodards.com.au/property/2-10-bullen-street-doncaster-east-3109-1856095/
SUMMARY:Auction at 2/10 Bullen Street
LOCATION:2/10 Bullen Street, Doncaster East, VIC 3109
URL:https://www.woodards.com.au/property/2-10-bullen-street-doncaster-east-3109-1856095/
END:VEVENT
END:VCALENDAR