BEGIN:VCALENDAR
PRODID:-//SoulAndWolf//SilverStripe//EN
VERSION:2.0
BEGIN:VEVENT
DTSTART;TZID=Australia/Melbourne:20260207T110000
DTEND;TZID=Australia/Melbourne:20260207T130000
DESCRIPTION:https://www.woodards.com.au/property/2-10-wahroongaa-road-murrumbeena-3163-1843790/
SUMMARY:Auction at 2/10 Wahroongaa Road
LOCATION:2/10 Wahroongaa Road, Murrumbeena, VIC 3163
URL:https://www.woodards.com.au/property/2-10-wahroongaa-road-murrumbeena-3163-1843790/
END:VEVENT
END:VCALENDAR