BEGIN:VCALENDAR
PRODID:-//SoulAndWolf//SilverStripe//EN
VERSION:2.0
BEGIN:VEVENT
DTSTART;TZID=Australia/Melbourne:20260321T120000
DTEND;TZID=Australia/Melbourne:20260321T140000
DESCRIPTION:https://www.woodards.com.au/property/2-1083-1089-glen-huntly-road-glen-huntly-3163-1864749/
SUMMARY:Auction at 2/1083-1089 Glen Huntly Road
LOCATION:2/1083-1089 Glen Huntly Road, Glen Huntly, VIC 3163
URL:https://www.woodards.com.au/property/2-1083-1089-glen-huntly-road-glen-huntly-3163-1864749/
END:VEVENT
END:VCALENDAR