BEGIN:VCALENDAR
PRODID:-//SoulAndWolf//SilverStripe//EN
VERSION:2.0
BEGIN:VEVENT
DTSTART;TZID=Australia/Melbourne:20251213T110000
DTEND;TZID=Australia/Melbourne:20251213T130000
DESCRIPTION:https://www.woodards.com.au/property/2-114-surrey-road-blackburn-north-3130-1832602/
SUMMARY:Auction at 2/114 Surrey Road
LOCATION:2/114 Surrey Road, Blackburn North, VIC 3130
URL:https://www.woodards.com.au/property/2-114-surrey-road-blackburn-north-3130-1832602/
END:VEVENT
END:VCALENDAR