BEGIN:VCALENDAR
PRODID:-//SoulAndWolf//SilverStripe//EN
VERSION:2.0
BEGIN:VEVENT
DTSTART;TZID=Australia/Melbourne:20251115T123000
DTEND;TZID=Australia/Melbourne:20251115T143000
DESCRIPTION:https://www.woodards.com.au/property/2-12a-lincoln-drive-bulleen-3105-1820832/
SUMMARY:Auction at 2/12A Lincoln Drive
LOCATION:2/12A Lincoln Drive, Bulleen, VIC 3105
URL:https://www.woodards.com.au/property/2-12a-lincoln-drive-bulleen-3105-1820832/
END:VEVENT
END:VCALENDAR