BEGIN:VCALENDAR
PRODID:-//SoulAndWolf//SilverStripe//EN
VERSION:2.0
BEGIN:VEVENT
DTSTART;TZID=Australia/Melbourne:20260509T113000
DTEND;TZID=Australia/Melbourne:20260509T133000
DESCRIPTION:https://www.woodards.com.au/property/2-144-146-kangaroo-road-hughesdale-3166-1890323/
SUMMARY:Auction at 2/144-146 Kangaroo Road
LOCATION:2/144-146 Kangaroo Road, Hughesdale, VIC 3166
URL:https://www.woodards.com.au/property/2-144-146-kangaroo-road-hughesdale-3166-1890323/
END:VEVENT
END:VCALENDAR