BEGIN:VCALENDAR
PRODID:-//SoulAndWolf//SilverStripe//EN
VERSION:2.0
BEGIN:VEVENT
DTSTART;TZID=Australia/Melbourne:20260425T130000
DTEND;TZID=Australia/Melbourne:20260425T131500
DESCRIPTION:https://www.woodards.com.au/property/2-16-middleborough-rd-burwood-east-3151-1888217/
SUMMARY:Inspection at 2/16 Middleborough Rd
LOCATION:2/16 Middleborough Rd, Burwood East, VIC 3151
URL:https://www.woodards.com.au/property/2-16-middleborough-rd-burwood-east-3151-1888217/
END:VEVENT
END:VCALENDAR