BEGIN:VCALENDAR
PRODID:-//SoulAndWolf//SilverStripe//EN
VERSION:2.0
BEGIN:VEVENT
DTSTART;TZID=Australia/Melbourne:20260502T100000
DTEND;TZID=Australia/Melbourne:20260502T120000
DESCRIPTION:https://www.woodards.com.au/property/2-173-mckinnon-road-mckinnon-3204-1886607/
SUMMARY:Auction at 2/173 McKinnon Road
LOCATION:2/173 McKinnon Road, Mckinnon, VIC 3204
URL:https://www.woodards.com.au/property/2-173-mckinnon-road-mckinnon-3204-1886607/
END:VEVENT
END:VCALENDAR