BEGIN:VCALENDAR
PRODID:-//SoulAndWolf//SilverStripe//EN
VERSION:2.0
BEGIN:VEVENT
DTSTART;TZID=Australia/Melbourne:20260425T110000
DTEND;TZID=Australia/Melbourne:20260425T112000
DESCRIPTION:https://www.woodards.com.au/property/2-18-20-miller-street-west-melbourne-3003-1891592/
SUMMARY:Inspection at 2/18-20 Miller Street
LOCATION:2/18-20 Miller Street, West Melbourne, VIC 3003
URL:https://www.woodards.com.au/property/2-18-20-miller-street-west-melbourne-3003-1891592/
END:VEVENT
END:VCALENDAR