BEGIN:VCALENDAR
PRODID:-//SoulAndWolf//SilverStripe//EN
VERSION:2.0
BEGIN:VEVENT
DTSTART;TZID=Australia/Melbourne:20260425T130000
DTEND;TZID=Australia/Melbourne:20260425T132000
DESCRIPTION:https://www.woodards.com.au/property/2-20-chanak-street-malvern-east-3145-1892457/
SUMMARY:Inspection at 2/20 Chanak Street
LOCATION:2/20 Chanak Street, Malvern East, VIC 3145
URL:https://www.woodards.com.au/property/2-20-chanak-street-malvern-east-3145-1892457/
END:VEVENT
END:VCALENDAR