BEGIN:VCALENDAR
PRODID:-//SoulAndWolf//SilverStripe//EN
VERSION:2.0
BEGIN:VEVENT
DTSTART;TZID=Australia/Melbourne:20250614T140000
DTEND;TZID=Australia/Melbourne:20250614T160000
DESCRIPTION:https://www.woodards.com.au/property/2-20-takapuna-street-caulfield-south-3162-1703898/
SUMMARY:Auction at 2/20 Takapuna Street
LOCATION:2/20 Takapuna Street, Caulfield South, VIC 3162
URL:https://www.woodards.com.au/property/2-20-takapuna-street-caulfield-south-3162-1703898/
END:VEVENT
END:VCALENDAR