BEGIN:VCALENDAR
PRODID:-//SoulAndWolf//SilverStripe//EN
VERSION:2.0
BEGIN:VEVENT
DTSTART;TZID=Australia/Melbourne:20251206T140000
DTEND;TZID=Australia/Melbourne:20251206T160000
DESCRIPTION:https://www.woodards.com.au/property/2-24-burton-street-lalor-3075-1830036/
SUMMARY:Auction at 2/24 Burton Street
LOCATION:2/24 Burton Street, Lalor, VIC 3075
URL:https://www.woodards.com.au/property/2-24-burton-street-lalor-3075-1830036/
END:VEVENT
END:VCALENDAR