BEGIN:VCALENDAR
PRODID:-//SoulAndWolf//SilverStripe//EN
VERSION:2.0
BEGIN:VEVENT
DTSTART;TZID=Australia/Melbourne:20260314T100000
DTEND;TZID=Australia/Melbourne:20260314T120000
DESCRIPTION:https://www.woodards.com.au/property/2-26-norville-street-bentleigh-east-3165-1862804/
SUMMARY:Auction at 2/26 Norville Street
LOCATION:2/26 Norville Street, Bentleigh East, VIC 3165
URL:https://www.woodards.com.au/property/2-26-norville-street-bentleigh-east-3165-1862804/
END:VEVENT
END:VCALENDAR