BEGIN:VCALENDAR
PRODID:-//SoulAndWolf//SilverStripe//EN
VERSION:2.0
BEGIN:VEVENT
DTSTART;TZID=Australia/Melbourne:20240210T103000
DTEND;TZID=Australia/Melbourne:20240210T123000
DESCRIPTION:https://www.woodards.com.au/property/2-26-whitmuir-road-bentleigh-3204-1471851/
SUMMARY:Auction at 2/26 Whitmuir Road
LOCATION:2/26 Whitmuir Road, Bentleigh, VIC 3204
URL:https://www.woodards.com.au/property/2-26-whitmuir-road-bentleigh-3204-1471851/
END:VEVENT
END:VCALENDAR