BEGIN:VCALENDAR
PRODID:-//SoulAndWolf//SilverStripe//EN
VERSION:2.0
BEGIN:VEVENT
DTSTART;TZID=Australia/Melbourne:20260314T110000
DTEND;TZID=Australia/Melbourne:20260314T130000
DESCRIPTION:https://www.woodards.com.au/property/2-3-5-quarry-road-mitcham-3132-1861349/
SUMMARY:Auction at 2/3-5 Quarry Road
LOCATION:2/3-5 Quarry Road, Mitcham, VIC 3132
URL:https://www.woodards.com.au/property/2-3-5-quarry-road-mitcham-3132-1861349/
END:VEVENT
END:VCALENDAR