BEGIN:VCALENDAR
PRODID:-//SoulAndWolf//SilverStripe//EN
VERSION:2.0
BEGIN:VEVENT
DTSTART;TZID=Australia/Melbourne:20260509T120000
DTEND;TZID=Australia/Melbourne:20260509T140000
DESCRIPTION:https://www.woodards.com.au/property/2-3-moor-street-bentleigh-east-3165-1888498/
SUMMARY:Auction at 2/3 Moor Street
LOCATION:2/3 Moor Street, Bentleigh East, VIC 3165
URL:https://www.woodards.com.au/property/2-3-moor-street-bentleigh-east-3165-1888498/
END:VEVENT
END:VCALENDAR