BEGIN:VCALENDAR
PRODID:-//SoulAndWolf//SilverStripe//EN
VERSION:2.0
BEGIN:VEVENT
DTSTART;TZID=Australia/Melbourne:20260426T100000
DTEND;TZID=Australia/Melbourne:20260426T103000
DESCRIPTION:https://www.woodards.com.au/property/2-3-south-daly-street-brunswick-west-3055-1892180/
SUMMARY:Inspection at 2/3 South Daly Street
LOCATION:2/3 South Daly Street, Brunswick West, VIC 3055
URL:https://www.woodards.com.au/property/2-3-south-daly-street-brunswick-west-3055-1892180/
END:VEVENT
END:VCALENDAR