BEGIN:VCALENDAR
PRODID:-//SoulAndWolf//SilverStripe//EN
VERSION:2.0
BEGIN:VEVENT
DTSTART;TZID=Australia/Melbourne:20260228T120000
DTEND;TZID=Australia/Melbourne:20260228T140000
DESCRIPTION:https://www.woodards.com.au/property/2-37-dega-avenue-bentleigh-east-3165-1858141/
SUMMARY:Auction at 2/37 Dega Avenue
LOCATION:2/37 Dega Avenue, Bentleigh East, VIC 3165
URL:https://www.woodards.com.au/property/2-37-dega-avenue-bentleigh-east-3165-1858141/
END:VEVENT
END:VCALENDAR