BEGIN:VCALENDAR
PRODID:-//SoulAndWolf//SilverStripe//EN
VERSION:2.0
BEGIN:VEVENT
DTSTART;TZID=Australia/Melbourne:20260227T180000
DTEND;TZID=Australia/Melbourne:20260227T200000
DESCRIPTION:https://www.woodards.com.au/property/2-385-gaffney-street-pascoe-vale-3044-1857879/
SUMMARY:Auction at 2/385 Gaffney Street
LOCATION:2/385 Gaffney Street, Pascoe Vale, VIC 3044
URL:https://www.woodards.com.au/property/2-385-gaffney-street-pascoe-vale-3044-1857879/
END:VEVENT
END:VCALENDAR