BEGIN:VCALENDAR
PRODID:-//SoulAndWolf//SilverStripe//EN
VERSION:2.0
BEGIN:VEVENT
DTSTART;TZID=Australia/Melbourne:20260425T130000
DTEND;TZID=Australia/Melbourne:20260425T133000
DESCRIPTION:https://www.woodards.com.au/property/2-41-campbell-road-hawthorn-east-3123-1890267/
SUMMARY:Inspection at 2/41 Campbell Road
LOCATION:2/41 Campbell Road, Hawthorn East, VIC 3123
URL:https://www.woodards.com.au/property/2-41-campbell-road-hawthorn-east-3123-1890267/
END:VEVENT
END:VCALENDAR