BEGIN:VCALENDAR
PRODID:-//SoulAndWolf//SilverStripe//EN
VERSION:2.0
BEGIN:VEVENT
DTSTART;TZID=Australia/Melbourne:20260425T143000
DTEND;TZID=Australia/Melbourne:20260425T150000
DESCRIPTION:https://www.woodards.com.au/property/2-5-albert-street-preston-3072-1892542/
SUMMARY:Inspection at 2/5 Albert Street
LOCATION:2/5 Albert Street, Preston, VIC 3072
URL:https://www.woodards.com.au/property/2-5-albert-street-preston-3072-1892542/
END:VEVENT
END:VCALENDAR