BEGIN:VCALENDAR
PRODID:-//SoulAndWolf//SilverStripe//EN
VERSION:2.0
BEGIN:VEVENT
DTSTART;TZID=Australia/Melbourne:20260328T120000
DTEND;TZID=Australia/Melbourne:20260328T140000
DESCRIPTION:https://www.woodards.com.au/property/2-60-66-patterson-road-bentleigh-3204-1874210/
SUMMARY:Auction at 2/60-66 Patterson Road
LOCATION:2/60-66 Patterson Road, Bentleigh, VIC 3204
URL:https://www.woodards.com.au/property/2-60-66-patterson-road-bentleigh-3204-1874210/
END:VEVENT
END:VCALENDAR