BEGIN:VCALENDAR
PRODID:-//SoulAndWolf//SilverStripe//EN
VERSION:2.0
BEGIN:VEVENT
DTSTART;TZID=Australia/Melbourne:20260328T130000
DTEND;TZID=Australia/Melbourne:20260328T150000
DESCRIPTION:https://www.woodards.com.au/property/2-7-fairfield-road-alphington-3078-1874052/
SUMMARY:Auction at 2/7 Fairfield Road
LOCATION:2/7 Fairfield Road, Alphington, VIC 3078
URL:https://www.woodards.com.au/property/2-7-fairfield-road-alphington-3078-1874052/
END:VEVENT
END:VCALENDAR