BEGIN:VCALENDAR
PRODID:-//SoulAndWolf//SilverStripe//EN
VERSION:2.0
BEGIN:VEVENT
DTSTART;TZID=Australia/Melbourne:20260425T130000
DTEND;TZID=Australia/Melbourne:20260425T133000
DESCRIPTION:https://www.woodards.com.au/property/2-8-park-avenue-glen-huntly-3163-1889580/
SUMMARY:Inspection at 2/8 Park Avenue
LOCATION:2/8 Park Avenue, Glen Huntly, VIC 3163
URL:https://www.woodards.com.au/property/2-8-park-avenue-glen-huntly-3163-1889580/
END:VEVENT
END:VCALENDAR