BEGIN:VCALENDAR
PRODID:-//SoulAndWolf//SilverStripe//EN
VERSION:2.0
BEGIN:VEVENT
DTSTART;TZID=Australia/Melbourne:20250322T120000
DTEND;TZID=Australia/Melbourne:20250322T140000
DESCRIPTION:https://www.woodards.com.au/property/2-9-louise-avenue-mont-albert-3127-1644366/
SUMMARY:Auction at 2/9 Louise Avenue
LOCATION:2/9 Louise Avenue, Mont Albert, VIC 3127
URL:https://www.woodards.com.au/property/2-9-louise-avenue-mont-albert-3127-1644366/
END:VEVENT
END:VCALENDAR