BEGIN:VCALENDAR
PRODID:-//SoulAndWolf//SilverStripe//EN
VERSION:2.0
BEGIN:VEVENT
DTSTART;TZID=Australia/Melbourne:20260321T133000
DTEND;TZID=Australia/Melbourne:20260321T153000
DESCRIPTION:https://www.woodards.com.au/property/2-98-haughton-road-oakleigh-3166-1861420/
SUMMARY:Auction at 2/98 Haughton Road
LOCATION:2/98 Haughton Road, Oakleigh, VIC 3166
URL:https://www.woodards.com.au/property/2-98-haughton-road-oakleigh-3166-1861420/
END:VEVENT
END:VCALENDAR