BEGIN:VCALENDAR
PRODID:-//SoulAndWolf//SilverStripe//EN
VERSION:2.0
BEGIN:VEVENT
DTSTART;TZID=Australia/Melbourne:20251218T190000
DTEND;TZID=Australia/Melbourne:20251218T210000
DESCRIPTION:https://www.woodards.com.au/property/2-coghlan-street-niddrie-3042-1817551/
SUMMARY:Auction at 2 Coghlan Street
LOCATION:2 Coghlan Street, Niddrie, VIC 3042
URL:https://www.woodards.com.au/property/2-coghlan-street-niddrie-3042-1817551/
END:VEVENT
END:VCALENDAR