BEGIN:VCALENDAR
PRODID:-//SoulAndWolf//SilverStripe//EN
VERSION:2.0
BEGIN:VEVENT
DTSTART;TZID=Australia/Melbourne:20260425T160000
DTEND;TZID=Australia/Melbourne:20260425T163000
DESCRIPTION:https://www.woodards.com.au/property/2-edgevale-road-bulleen-3105-1889915/
SUMMARY:Inspection at 2 Edgevale Road
LOCATION:2 Edgevale Road, Bulleen, VIC 3105
URL:https://www.woodards.com.au/property/2-edgevale-road-bulleen-3105-1889915/
END:VEVENT
END:VCALENDAR