BEGIN:VCALENDAR
PRODID:-//SoulAndWolf//SilverStripe//EN
VERSION:2.0
BEGIN:VEVENT
DTSTART;TZID=Australia/Melbourne:20260423T180000
DTEND;TZID=Australia/Melbourne:20260423T183000
DESCRIPTION:https://www.woodards.com.au/property/2-greenock-place-templestowe-3106-1886531/
SUMMARY:Inspection at 2 Greenock Place
LOCATION:2 Greenock Place, Templestowe, VIC 3106
URL:https://www.woodards.com.au/property/2-greenock-place-templestowe-3106-1886531/
END:VEVENT
END:VCALENDAR