BEGIN:VCALENDAR
PRODID:-//SoulAndWolf//SilverStripe//EN
VERSION:2.0
BEGIN:VEVENT
DTSTART;TZID=Australia/Melbourne:20250601T120000
DTEND;TZID=Australia/Melbourne:20250601T140000
DESCRIPTION:https://www.woodards.com.au/property/2-jenkins-street-caulfield-south-3162-1691744/
SUMMARY:Auction at 2 Jenkins Street
LOCATION:2 Jenkins Street, Caulfield South, VIC 3162
URL:https://www.woodards.com.au/property/2-jenkins-street-caulfield-south-3162-1691744/
END:VEVENT
END:VCALENDAR