BEGIN:VCALENDAR
PRODID:-//SoulAndWolf//SilverStripe//EN
VERSION:2.0
BEGIN:VEVENT
DTSTART;TZID=Australia/Melbourne:20260207T100000
DTEND;TZID=Australia/Melbourne:20260207T120000
DESCRIPTION:https://www.woodards.com.au/property/2-lavinia-street-greenvale-3059-1845724/
SUMMARY:Auction at 2 Lavinia Street
LOCATION:2 Lavinia Street, Greenvale, VIC 3059
URL:https://www.woodards.com.au/property/2-lavinia-street-greenvale-3059-1845724/
END:VEVENT
END:VCALENDAR