BEGIN:VCALENDAR
PRODID:-//SoulAndWolf//SilverStripe//EN
VERSION:2.0
BEGIN:VEVENT
DTSTART;TZID=Australia/Melbourne:20241026T110000
DTEND;TZID=Australia/Melbourne:20241026T130000
DESCRIPTION:https://www.woodards.com.au/property/2-mainridge-vista-keilor-east-3033-1582138/
SUMMARY:Auction at 2 Mainridge Vista
LOCATION:2 Mainridge Vista, Keilor East, VIC 3033
URL:https://www.woodards.com.au/property/2-mainridge-vista-keilor-east-3033-1582138/
END:VEVENT
END:VCALENDAR