BEGIN:VCALENDAR
PRODID:-//SoulAndWolf//SilverStripe//EN
VERSION:2.0
BEGIN:VEVENT
DTSTART;TZID=Australia/Melbourne:20260427T163000
DTEND;TZID=Australia/Melbourne:20260427T164000
DESCRIPTION:https://www.woodards.com.au/property/2-village-court-rowville-3178-1892635/
SUMMARY:Inspection at 2 Village Court
LOCATION:2 Village Court, Rowville, VIC 3178
URL:https://www.woodards.com.au/property/2-village-court-rowville-3178-1892635/
END:VEVENT
END:VCALENDAR