BEGIN:VCALENDAR
PRODID:-//SoulAndWolf//SilverStripe//EN
VERSION:2.0
BEGIN:VEVENT
DTSTART;TZID=Australia/Melbourne:20250405T153000
DTEND;TZID=Australia/Melbourne:20250405T173000
DESCRIPTION:https://www.woodards.com.au/property/20-alexander-street-mitcham-3132-1643440/
SUMMARY:Auction at 20 Alexander Street
LOCATION:20 Alexander Street, Mitcham, VIC 3132
URL:https://www.woodards.com.au/property/20-alexander-street-mitcham-3132-1643440/
END:VEVENT
END:VCALENDAR