BEGIN:VCALENDAR
PRODID:-//SoulAndWolf//SilverStripe//EN
VERSION:2.0
BEGIN:VEVENT
DTSTART;TZID=Australia/Melbourne:20260228T123000
DTEND;TZID=Australia/Melbourne:20260228T143000
DESCRIPTION:https://www.woodards.com.au/property/202-6-butler-street-camberwell-3124-1857242/
SUMMARY:Auction at 202/6 Butler Street
LOCATION:202/6 Butler Street, Camberwell, VIC 3124
URL:https://www.woodards.com.au/property/202-6-butler-street-camberwell-3124-1857242/
END:VEVENT
END:VCALENDAR