BEGIN:VCALENDAR
PRODID:-//SoulAndWolf//SilverStripe//EN
VERSION:2.0
BEGIN:VEVENT
DTSTART;TZID=Australia/Melbourne:20240831T110000
DTEND;TZID=Australia/Melbourne:20240831T130000
DESCRIPTION:https://www.woodards.com.au/property/203-10-station-avenue-mckinnon-3204-1559200/
SUMMARY:Auction at 203/10 Station Avenue
LOCATION:203/10 Station Avenue, Mckinnon, VIC 3204
URL:https://www.woodards.com.au/property/203-10-station-avenue-mckinnon-3204-1559200/
END:VEVENT
END:VCALENDAR