BEGIN:VCALENDAR
PRODID:-//SoulAndWolf//SilverStripe//EN
VERSION:2.0
BEGIN:VEVENT
DTSTART;TZID=Australia/Melbourne:20260421T170000
DTEND;TZID=Australia/Melbourne:20260421T173000
DESCRIPTION:https://www.woodards.com.au/property/203-63-65-atherton-road-oakleigh-3166-1886312/
SUMMARY:Inspection at 203/63-65 Atherton Road
LOCATION:203/63-65 Atherton Road, Oakleigh, VIC 3166
URL:https://www.woodards.com.au/property/203-63-65-atherton-road-oakleigh-3166-1886312/
END:VEVENT
END:VCALENDAR