BEGIN:VCALENDAR
PRODID:-//SoulAndWolf//SilverStripe//EN
VERSION:2.0
BEGIN:VEVENT
DTSTART;TZID=Australia/Melbourne:20260425T130000
DTEND;TZID=Australia/Melbourne:20260425T132000
DESCRIPTION:https://www.woodards.com.au/property/208-64-macaulay-road-north-melbourne-3051-1890748/
SUMMARY:Inspection at 208/64 Macaulay Road
LOCATION:208/64 Macaulay Road, North Melbourne, VIC 3051
URL:https://www.woodards.com.au/property/208-64-macaulay-road-north-melbourne-3051-1890748/
END:VEVENT
END:VCALENDAR