BEGIN:VCALENDAR
PRODID:-//SoulAndWolf//SilverStripe//EN
VERSION:2.0
BEGIN:VEVENT
DTSTART;TZID=Australia/Melbourne:20260516T110000
DTEND;TZID=Australia/Melbourne:20260516T130000
DESCRIPTION:https://www.woodards.com.au/property/20a-malane-street-bentleigh-east-3165-1892156/
SUMMARY:Auction at 20A Malane Street
LOCATION:20A Malane Street, Bentleigh East, VIC 3165
URL:https://www.woodards.com.au/property/20a-malane-street-bentleigh-east-3165-1892156/
END:VEVENT
END:VCALENDAR