BEGIN:VCALENDAR
PRODID:-//SoulAndWolf//SilverStripe//EN
VERSION:2.0
BEGIN:VEVENT
DTSTART;TZID=Australia/Melbourne:20260314T110000
DTEND;TZID=Australia/Melbourne:20260314T130000
DESCRIPTION:https://www.woodards.com.au/property/21-ascot-street-ascot-vale-3032-1858542/
SUMMARY:Auction at 2/1 Ascot Street
LOCATION:2/1 Ascot Street, Ascot Vale, VIC 3032
URL:https://www.woodards.com.au/property/21-ascot-street-ascot-vale-3032-1858542/
END:VEVENT
END:VCALENDAR