BEGIN:VCALENDAR
PRODID:-//SoulAndWolf//SilverStripe//EN
VERSION:2.0
BEGIN:VEVENT
DTSTART;TZID=Australia/Melbourne:20220702T110000
DTEND;TZID=Australia/Melbourne:20220702T130000
DESCRIPTION:https://www.woodards.com.au/property/21-mcphail-street-essendon-3040-1264378/
SUMMARY:Auction at 21 McPhail Street
LOCATION:21 McPhail Street, Essendon, VIC 3040
URL:https://www.woodards.com.au/property/21-mcphail-street-essendon-3040-1264378/
END:VEVENT
END:VCALENDAR