BEGIN:VCALENDAR
PRODID:-//SoulAndWolf//SilverStripe//EN
VERSION:2.0
BEGIN:VEVENT
DTSTART;TZID=Australia/Melbourne:20260425T154500
DTEND;TZID=Australia/Melbourne:20260425T161500
DESCRIPTION:https://www.woodards.com.au/property/21213-williams-road-south-yarra-3141-1889942/
SUMMARY:Inspection at 21/213 Williams Road
LOCATION:21/213 Williams Road, South Yarra, VIC 3141
URL:https://www.woodards.com.au/property/21213-williams-road-south-yarra-3141-1889942/
END:VEVENT
END:VCALENDAR