BEGIN:VCALENDAR
PRODID:-//SoulAndWolf//SilverStripe//EN
VERSION:2.0
BEGIN:VEVENT
DTSTART;TZID=Australia/Melbourne:20260523T110000
DTEND;TZID=Australia/Melbourne:20260523T130000
DESCRIPTION:https://www.woodards.com.au/property/219-fletcher-street-essendon-3040-1888333/
SUMMARY:Auction at 2/19 Fletcher Street
LOCATION:2/19 Fletcher Street, Essendon, VIC 3040
URL:https://www.woodards.com.au/property/219-fletcher-street-essendon-3040-1888333/
END:VEVENT
END:VCALENDAR